BEGIN:VCALENDAR
VERSION:2.0
PRODID:-//AACA - Antique Automobile Club of America - ECPv6.15.17.1//NONSGML v1.0//EN
CALSCALE:GREGORIAN
METHOD:PUBLISH
X-WR-CALNAME:AACA - Antique Automobile Club of America
X-ORIGINAL-URL:https://aaca.org
X-WR-CALDESC:Events for AACA - Antique Automobile Club of America
REFRESH-INTERVAL;VALUE=DURATION:PT1H
X-Robots-Tag:noindex
X-PUBLISHED-TTL:PT1H
BEGIN:VTIMEZONE
TZID:UTC
BEGIN:STANDARD
TZOFFSETFROM:+0000
TZOFFSETTO:+0000
TZNAME:UTC
DTSTART:20250101T000000
END:STANDARD
END:VTIMEZONE
BEGIN:VEVENT
DTSTART;TZID=UTC:20260322T080000
DTEND;TZID=UTC:20260322T150000
DTSTAMP:20260424T064411
CREATED:20251229T211702Z
LAST-MODIFIED:20251229T211930Z
UID:3794-1774166400-1774191600@aaca.org
SUMMARY:South Jersey Region AACA's 54th Annual Swap Meet & Car Corral
DESCRIPTION:Location: Salem County Fairgrounds\, 735 Harding Hwy. (US Rt. 40)\, Woodstown\, NJ.\n8 AM – 3 PM. Free admission. Vendor spaces available starting at $35.00 each.\nFor additional information contact: Chuck Gibson 609-221-5435\, Ed Fuller 856-297-4025 or Gary Green 856-575-5547.
URL:https://aaca.org/event/south-jersey-region-aacas-54th-annual-swap-meet-car-corral/
CATEGORIES:AACA National Calendar,Other Events
END:VEVENT
END:VCALENDAR