BEGIN:VCALENDAR
VERSION:2.0
PRODID:-//AACA - Antique Automobile Club of America - ECPv6.15.17.1//NONSGML v1.0//EN
CALSCALE:GREGORIAN
METHOD:PUBLISH
X-WR-CALNAME:AACA - Antique Automobile Club of America
X-ORIGINAL-URL:https://aaca.org
X-WR-CALDESC:Events for AACA - Antique Automobile Club of America
REFRESH-INTERVAL;VALUE=DURATION:PT1H
X-Robots-Tag:noindex
X-PUBLISHED-TTL:PT1H
BEGIN:VTIMEZONE
TZID:UTC
BEGIN:STANDARD
TZOFFSETFROM:+0000
TZOFFSETTO:+0000
TZNAME:UTC
DTSTART:20250101T000000
END:STANDARD
END:VTIMEZONE
BEGIN:VEVENT
DTSTART;VALUE=DATE:20260327
DTEND;VALUE=DATE:20260329
DTSTAMP:20260422T064505
CREATED:20251113T022430Z
LAST-MODIFIED:20251113T022539Z
UID:3735-1774569600-1774742399@aaca.org
SUMMARY:56th Annual AACA Sugarloaf Mountain Region Indoor/Outdoor Parts Meet
DESCRIPTION:Host: Sugarloaf Mountain Region \nLocation: Carroll County Agriculture Center\, 706 Agriculture Drive\, Westminster\, MD 21157 \nContact: Babs Leese 240-328-3823 babs.leese@verizon.net \nWestminster\, Maryland 56th Annual Indoor/Outdoor Parts Meet Collector Auto Truck\nMarch 27 and 28\, 2026 at the Carroll County Agriculture Center\n3/27 8am to 4pm and 3/28 8am to 2pm\nMore info and Show Flyer @smraaca@aol.com\n*52\,500 sq ft heated building *Hundreds of Vendor Spaces\n*Plenty of FREE Parking *Outdoor Vendor Area in Center Arena
URL:https://aaca.org/event/56th-annual-aaca-sugarloaf-mountain-region-indoor-outdoor-parts-meet/
CATEGORIES:AACA National Calendar,Other Events
END:VEVENT
END:VCALENDAR