BEGIN:VCALENDAR
VERSION:2.0
PRODID:-//AACA - Antique Automobile Club of America - ECPv6.15.17.1//NONSGML v1.0//EN
CALSCALE:GREGORIAN
METHOD:PUBLISH
X-ORIGINAL-URL:https://aaca.org
X-WR-CALDESC:Events for AACA - Antique Automobile Club of America
REFRESH-INTERVAL;VALUE=DURATION:PT1H
X-Robots-Tag:noindex
X-PUBLISHED-TTL:PT1H
BEGIN:VTIMEZONE
TZID:America/New_York
BEGIN:DAYLIGHT
TZOFFSETFROM:-0500
TZOFFSETTO:-0400
TZNAME:EDT
DTSTART:20250309T070000
END:DAYLIGHT
BEGIN:STANDARD
TZOFFSETFROM:-0400
TZOFFSETTO:-0500
TZNAME:EST
DTSTART:20251102T060000
END:STANDARD
BEGIN:DAYLIGHT
TZOFFSETFROM:-0500
TZOFFSETTO:-0400
TZNAME:EDT
DTSTART:20260308T070000
END:DAYLIGHT
BEGIN:STANDARD
TZOFFSETFROM:-0400
TZOFFSETTO:-0500
TZNAME:EST
DTSTART:20261101T060000
END:STANDARD
BEGIN:DAYLIGHT
TZOFFSETFROM:-0500
TZOFFSETTO:-0400
TZNAME:EDT
DTSTART:20270314T070000
END:DAYLIGHT
BEGIN:STANDARD
TZOFFSETFROM:-0400
TZOFFSETTO:-0500
TZNAME:EST
DTSTART:20271107T060000
END:STANDARD
END:VTIMEZONE
BEGIN:VTIMEZONE
TZID:UTC
BEGIN:STANDARD
TZOFFSETFROM:+0000
TZOFFSETTO:+0000
TZNAME:UTC
DTSTART:20250101T000000
END:STANDARD
END:VTIMEZONE
BEGIN:VEVENT
DTSTART;VALUE=DATE:20260606
DTEND;VALUE=DATE:20260607
DTSTAMP:20260421T084839
CREATED:20260418T163052Z
LAST-MODIFIED:20260418T163052Z
UID:3953-1780704000-1780790399@aaca.org
SUMMARY:69th Annual HFR Antique Auto Festival
DESCRIPTION:Host: Historic Fredericksburg Region AACA \nLocation: Fredericksburg Agricultural Fairgrounds\, Airport Ave\, Fredericksburg\, VA 22401 \nShow field open to preregistered AACA eligible vehicles to be judged. Non-AACA compliant vehicles & day of show vehicles will not be judged. Festival includes swap meet\, car corral\, model T disassembly & assembly\, vintage fashion show\, swing dancers. Food trucks & restrooms on site. Hours 7am – 3 pm. On 7 June\, HFR will lead a cruise to local attractions. \nContact: wallyhunt66@gmail.com or govonir@verizon.net \nwebsite: www.hfraaca.org
URL:https://aaca.org/event/69th-annual-hfr-antique-auto-festival/
CATEGORIES:AACA National Calendar,Other Events
END:VEVENT
BEGIN:VEVENT
DTSTART;VALUE=DATE:20260613
DTEND;VALUE=DATE:20260614
DTSTAMP:20260421T084839
CREATED:20260223T200112Z
LAST-MODIFIED:20260223T200112Z
UID:3876-1781308800-1781395199@aaca.org
SUMMARY:42nd Annual Yakima Valley Swap Meet & Car Show
DESCRIPTION:Hosted by:  CENTRAL WASHINGTON #457 \nLocation: Central Washington Agricultural Museum\, 4508 Main St.\, Union Gap\, WA (I-82 Exit 37B) \nSwap Meet & Invitational Car Show featuring car parts\, collectibles\, and craft items. Supported by the Antique Auto Club of America-Central WA and Apple Valley Model A Club. \nContact: Mike Kelley 253-630-2629 / 253-569-2352 / termikal@comcast.net \nhttps://www.yakimavalleyswapmeet.com/
URL:https://aaca.org/event/42nd-annual-yakima-valley-swap-meet-car-show/
CATEGORIES:AACA National Calendar,Other Events
END:VEVENT
BEGIN:VEVENT
DTSTART;VALUE=DATE:20260614
DTEND;VALUE=DATE:20260615
DTSTAMP:20260421T084839
CREATED:20260219T015642Z
LAST-MODIFIED:20260219T015642Z
UID:3868-1781395200-1781481599@aaca.org
SUMMARY:Presque Isle Region's 50th Annual Antique Automobile show
DESCRIPTION:Location: Gazebo Park in the Borough of Waterford\, PA 16441 \nLimited to vehicles 25 years old and older. We feature peer voting for awards given to vehicles in each of 15 classes. Dash plaques to first 100 registered vehicles. No flea market. Food nearby from local vendors and restaurants. Live music. Basket raffle. Free spectator admission. A portion of proceeds will be donated to a local non-profit charity. \nContact: Howard Krack (814) 881-1015 piraaca45@yahoo.com or Cheryl Anderson (814) 490-1909 \nCheck out Presque Isle Region AACA on Facebook
URL:https://aaca.org/event/presque-isle-regions-50th-annual-antique-automobile-show/
CATEGORIES:AACA National Calendar,Other Events
END:VEVENT
BEGIN:VEVENT
DTSTART;VALUE=DATE:20260620
DTEND;VALUE=DATE:20260621
DTSTAMP:20260421T084839
CREATED:20260401T165636Z
LAST-MODIFIED:20260401T165636Z
UID:3933-1781913600-1781999999@aaca.org
SUMMARY:AACA Mid-Jersey Region's Car Show at Terhune Orchards
DESCRIPTION:Location: Terhune Orchards\, 330 Cold Soil Road\, Princeton\, NJ 08540 \nAll stock and modified vehicles 25 years old and older welcome. Recognition awards\, no entry fee. \nFood available on site. \nInfo: MidJerseyRegionAACA@gmail.com \n 
URL:https://aaca.org/event/aaca-mid-jersey-regions-car-show-at-terhune-orchards/
CATEGORIES:AACA National Calendar,Other Events
END:VEVENT
BEGIN:VEVENT
DTSTART;VALUE=DATE:20260718
DTEND;VALUE=DATE:20260719
DTSTAMP:20260421T084839
CREATED:20260401T164829Z
LAST-MODIFIED:20260401T164829Z
UID:3932-1784332800-1784419199@aaca.org
SUMMARY:72nd Annual Long Beach Model T Club Swap Meet
DESCRIPTION:Location: Long Beach City College Veteran’s Stadium\, 5000 Lew Davis St. Long Beach\, CA 90808 \nSince 1955\, the oldest and best old car and old Ford swap meet in the West! Spaces are available\, 20ft wide by 16ft deep $40 each or 3 for $100. $50 each day of event. Open to all makes and models\, automotive and hobby related items only. 5000 Lew Davis St. Long Beach City College Veterans Stadium. Admission $5\, free parking. \nNO DOGS-NO GUNS-NO WEAPONS \nCall Jeff Hood 562-597-5936 or flyers and registration forms at lbmtc.com
URL:https://aaca.org/event/72nd-annual-long-beach-model-t-club-swap-meet/
CATEGORIES:AACA National Calendar,Other Events
END:VEVENT
BEGIN:VEVENT
DTSTART;VALUE=DATE:20260731
DTEND;VALUE=DATE:20260803
DTSTAMP:20260421T084839
CREATED:20260401T164353Z
LAST-MODIFIED:20260401T164353Z
UID:3931-1785456000-1785715199@aaca.org
SUMMARY:Ontelaunee Region AACA's Das Awkscht Fescht
DESCRIPTION:Location: Macungie Memorial Park\, 50 North Poplar St\, Macungie\, PA 18062 \nThree-day car show\, flea market\, car corral\, and Toy Town. This year’s feature is race cars and antique motorcycles. Festival takes place in a beautiful park with shade trees. There will be arts and crafts\, including quilts in air conditioned building\, live bands on stage and square dance show\, children’s activities and petting zoo. Food and beer garden. Lots to see and do. Go to www.awkscht.com to register a vehicle or to be a vendor. \nContact: Susan Manwiller – 610-823-5033\, smanwi1321@Aaol.com
URL:https://aaca.org/event/ontelaunee-region-aacas-das-awkscht-fescht/
CATEGORIES:AACA National Calendar,Other Events
END:VEVENT
BEGIN:VEVENT
DTSTART;VALUE=DATE:20260801
DTEND;VALUE=DATE:20260802
DTSTAMP:20260421T084839
CREATED:20260401T150724Z
LAST-MODIFIED:20260401T150724Z
UID:3929-1785542400-1785628799@aaca.org
SUMMARY:35th Annual Zooland Region Antique Car Show
DESCRIPTION:Location: Bicentennial Park\, Asheboro\, NC \nContact: Larry Pugh\, President – arrchief600@gmail.com\, zoolandaaca@gmail.com \nRegistrations 8-10:30\nAward Presentation by 3:00 – 1st & 2nd place awards for all classes\nFirst 150 cars will be judged for Best of Shows and Special awards presented
URL:https://aaca.org/event/35th-annual-zooland-region-antique-car-show/
CATEGORIES:AACA National Calendar,Other Events
END:VEVENT
BEGIN:VEVENT
DTSTART;TZID=America/New_York:20260919T080000
DTEND;TZID=America/New_York:20260919T150000
DTSTAMP:20260421T084839
CREATED:20260418T164642Z
LAST-MODIFIED:20260420T164546Z
UID:3954-1789804800-1789830000@aaca.org
SUMMARY:50th Edgar Rohr Memorial Car Meet
DESCRIPTION:Hosted by: Bull Run Region AACA \nLocation: Manassas\, VA\, Historic railroad depot parking lot\, 9431 West St. Manassas\, VA 20110 \nFree admission and free garage parking to spectators. Free car trailer parking.  Trophies\, dash plaques\, door prizes\, 50-50 drawing.  Model T Ford assembly & disassembly demonstrations. Flea Market. Show location is a short walk from Farmers Market and historic Old Town Manassas shops & restaurants.  A portion of show entry proceeds will be donated to Fisher House Foundation. \nContact: Randy Higgins\, 703-853-2235 \nWebsite: BullRun.AACA.com
URL:https://aaca.org/event/50th-edgar-rohr-memorial-car-meet/
CATEGORIES:AACA National Calendar,Other Events
END:VEVENT
BEGIN:VEVENT
DTSTART;TZID=UTC:20260920T080000
DTEND;TZID=UTC:20260920T170000
DTSTAMP:20260421T084839
CREATED:20260128T004321Z
LAST-MODIFIED:20260128T004321Z
UID:3821-1789891200-1789923600@aaca.org
SUMMARY:Anthracite Region AACA 40th Annual Car Show and Flea Market
DESCRIPTION:Location: McAdoo\, PA \nContact Dave Bielen – Dbielen51@gmail.com or 717-471-9313 \nClick here for more informaton. \n 
URL:https://aaca.org/event/anthracite-region-aaca-40th-annual-car-show-and-flea-market/
CATEGORIES:AACA National Calendar,Other Events
END:VEVENT
END:VCALENDAR