BEGIN:VCALENDAR
VERSION:2.0
PRODID:-//AACA - Antique Automobile Club of America - ECPv6.15.17.1//NONSGML v1.0//EN
CALSCALE:GREGORIAN
METHOD:PUBLISH
X-ORIGINAL-URL:https://aaca.org
X-WR-CALDESC:Events for AACA - Antique Automobile Club of America
REFRESH-INTERVAL;VALUE=DURATION:PT1H
X-Robots-Tag:noindex
X-PUBLISHED-TTL:PT1H
BEGIN:VTIMEZONE
TZID:UTC
BEGIN:STANDARD
TZOFFSETFROM:+0000
TZOFFSETTO:+0000
TZNAME:UTC
DTSTART:20250101T000000
END:STANDARD
END:VTIMEZONE
BEGIN:VTIMEZONE
TZID:America/New_York
BEGIN:DAYLIGHT
TZOFFSETFROM:-0500
TZOFFSETTO:-0400
TZNAME:EDT
DTSTART:20250309T070000
END:DAYLIGHT
BEGIN:STANDARD
TZOFFSETFROM:-0400
TZOFFSETTO:-0500
TZNAME:EST
DTSTART:20251102T060000
END:STANDARD
BEGIN:DAYLIGHT
TZOFFSETFROM:-0500
TZOFFSETTO:-0400
TZNAME:EDT
DTSTART:20260308T070000
END:DAYLIGHT
BEGIN:STANDARD
TZOFFSETFROM:-0400
TZOFFSETTO:-0500
TZNAME:EST
DTSTART:20261101T060000
END:STANDARD
BEGIN:DAYLIGHT
TZOFFSETFROM:-0500
TZOFFSETTO:-0400
TZNAME:EDT
DTSTART:20270314T070000
END:DAYLIGHT
BEGIN:STANDARD
TZOFFSETFROM:-0400
TZOFFSETTO:-0500
TZNAME:EST
DTSTART:20271107T060000
END:STANDARD
END:VTIMEZONE
BEGIN:VEVENT
DTSTART;VALUE=DATE:20260501
DTEND;VALUE=DATE:20260503
DTSTAMP:20260424T053052
CREATED:20260219T020741Z
LAST-MODIFIED:20260219T020741Z
UID:3870-1777593600-1777766399@aaca.org
SUMMARY:Bakersfield Swap Meet 2026
DESCRIPTION:Location: Minter Airfield\, 201 Aviation St\, Shafter\, CA \nMore information:  BakersfieldSwapMeet.org
URL:https://aaca.org/event/bakersfield-swap-meet-2026/
CATEGORIES:AACA National Calendar,Other Events
END:VEVENT
BEGIN:VEVENT
DTSTART;VALUE=DATE:20260502
DTEND;VALUE=DATE:20260503
DTSTAMP:20260424T053052
CREATED:20260223T195659Z
LAST-MODIFIED:20260302T162438Z
UID:3875-1777680000-1777766399@aaca.org
SUMMARY:Old Dominion Meet
DESCRIPTION:Hosted by:  Tidewater Region AACA \nLocation: Chesapeake\, Virginia \nThe Old Dominion Meet Association was formed in the 1950s by an early group of AACA members led by past AACA National President Edgar Rhor in Manassas\, Virginia. A major long-standing goal is to host an annual event for all AACA members in Virginia.  This event is rotated among member clubs\, and this year\, TRAACA takes their turn. \nThe meet will be held at the Real-Life Christian Church\, 900 Centerville Turnpike North\, Chesapeake\, Virginia.  The event begins with a Friday evening Pizza social on-site (May 1st). \nRegistration is now open.  Full details and registration form can be found on the Tidewater Region AACA Website  https://traaca.com/2026_odma.htm \n 
URL:https://aaca.org/event/old-dominion-meet/
CATEGORIES:AACA National Calendar,Other Events
END:VEVENT
BEGIN:VEVENT
DTSTART;VALUE=DATE:20260503
DTEND;VALUE=DATE:20260504
DTSTAMP:20260424T053052
CREATED:20260331T202257Z
LAST-MODIFIED:20260331T202635Z
UID:3923-1777766400-1777852799@aaca.org
SUMMARY:New Jersey Region AACA 73rd Annual Collectible Car Show
DESCRIPTION:Location:  Morris County School of Technology\, 408 E. Main St.\, Denville\, NJ 07834 \nShow is rain or shine \nContact: Vince DeLisi – vincentdelisi@comcast.net for registration\, Pete Cullen – oldcarz57@aol.com for show info. \nShow Flyer \nApplication \nWebsite: https://njregionaaca.com/activities
URL:https://aaca.org/event/new-jersey-region-aaca-73rd-annual-collectible-car-show/
CATEGORIES:AACA National Calendar,Other Events
END:VEVENT
BEGIN:VEVENT
DTSTART;TZID=UTC:20260509T080000
DTEND;TZID=UTC:20260509T150000
DTSTAMP:20260424T053052
CREATED:20260106T183517Z
LAST-MODIFIED:20260106T183517Z
UID:3797-1778313600-1778338800@aaca.org
SUMMARY:Shenandoah Region AACA's 66th Annual Apple Blossom Car Show/Swap Meet
DESCRIPTION:Shenandoah Region AACA’s 66th Annual Apple Blossom Meet\, Sat. May 9\, 2026\, 8am-3pm.\nWinchester\, VA. Show Field opens 8am\, Flea Market Field opens 7am. Judging starts at 11am.\nAll registered vehicles eligible for 30+ sponsored awards.\nPre-registration must be received by May 7 for class judging. Class awards at 2pm\, sponsored awards at 2:30 pm.\nSee our website\, shenandoah.aaca.com or www.facebook.com/ShenandoahRegionAACA for updates\,\ninfo\, and registration forms.\nMeet Chair: Duane Catlett: 540-533-7376 catlettbd@gmail.com\nRegistrar: Linda Comontofski:  ABCarShowRegistrar@gmail.com
URL:https://aaca.org/event/shenandoah-region-aacas-66th-annual-apple-blossom-car-show-swap-meet/
CATEGORIES:AACA National Calendar,Other Events
END:VEVENT
BEGIN:VEVENT
DTSTART;VALUE=DATE:20260516
DTEND;VALUE=DATE:20260517
DTSTAMP:20260424T053052
CREATED:20260223T195329Z
LAST-MODIFIED:20260223T195329Z
UID:3874-1778889600-1778975999@aaca.org
SUMMARY:Chesapeake Region’s Annual Four-Alarm Collector Car Show
DESCRIPTION:Location:  Fire Museum of Maryland  1301 York Road – Lutherville\, MD 21093 \nContact: Tom Rosso 240-375-5325   1965barracuda@comcast.net   https://chesapeake.aaca.com
URL:https://aaca.org/event/chesapeake-regions-annual-four-alarm-collector-car-show-2/
CATEGORIES:AACA National Calendar,Other Events
END:VEVENT
BEGIN:VEVENT
DTSTART;VALUE=DATE:20260523
DTEND;VALUE=DATE:20260524
DTSTAMP:20260424T053052
CREATED:20260223T200519Z
LAST-MODIFIED:20260223T200519Z
UID:3877-1779494400-1779580799@aaca.org
SUMMARY:Memories on main Car Show
DESCRIPTION:Hosted by: Twin County AACA \nLocation: Main Street\, Galaz\, Virginia 24333 \nCar show. Admission and registration free. \nContact: Thomas Littrell\, luv2fly53p@gmail.com \n 
URL:https://aaca.org/event/memories-on-main-car-show/
CATEGORIES:AACA National Calendar,Other Events
END:VEVENT
BEGIN:VEVENT
DTSTART;VALUE=DATE:20260523
DTEND;VALUE=DATE:20260525
DTSTAMP:20260424T053052
CREATED:20260219T011915Z
LAST-MODIFIED:20260219T011915Z
UID:3865-1779494400-1779667199@aaca.org
SUMMARY:AACA Greenhorn Region's 2026 Next Generation Tour
DESCRIPTION:Location – Luray\, Virginia \nScenic drives\, museums & caverns for car enthusiasts 45 & under. Come join a group of young car enthusiasts on a tour exploring the stunning beauty and dramatic vistas of Skyline Drive and the Blue Ridge Mountains. The tour is based in Luray\, Virginia and will drive along the Skyline Drive\, visit Luray caverns and car museum\, a tour the Dale Adams Collection\, visit the Madison Automotive Apprentices Program\, and much more. \nNew this year is the inclusion of a professional photographer that will capture still and rolling photos of you and your vehicle on Skyline Drive! \nContact: Kyle Blake\, GreenhornRegion@gmail.com \nwebsite:  https://www.eventbrite.com/e/2026-aaca-next-generation-tour-tickets-1982049498405
URL:https://aaca.org/event/aaca-greenhorn-regions-2026-next-generation-tour/
CATEGORIES:AACA National Calendar,Other Events
END:VEVENT
END:VCALENDAR